BEGIN:VCALENDAR
VERSION:2.0
PRODID:-//Plone.org//NONSGML plone.app.event//EN
X-WR-TIMEZONE:US/Central
BEGIN:VEVENT
SUMMARY:Closed
DTSTART;VALUE=DATE:20150703
DTEND;VALUE=DATE:20150704
DTSTAMP:20260424T142634Z
UID:f2ce595e233145fa956431fa341d7539@saas_stack_varnish:6080
CREATED:20150702T000102Z
DESCRIPTION:Happy Independence Day
LAST-MODIFIED:20150702T000105Z
URL:https://chico.ploud.net/news-events/lib-cal/closed
END:VEVENT
END:VCALENDAR
